BEGIN:VCALENDAR
VERSION:2.0
PRODID:-//日本コダーイ協会 - ECPv4.3.4.1//NONSGML v1.0//EN
CALSCALE:GREGORIAN
METHOD:PUBLISH
X-WR-CALNAME:日本コダーイ協会
X-ORIGINAL-URL:http://kodaly.jp
X-WR-CALDESC:Events for 日本コダーイ協会
BEGIN:VEVENT
DTSTART;TZID=Asia/Tokyo:20210327T100000
DTEND;TZID=Asia/Tokyo:20210327T120000
DTSTAMP:20260426T031327
CREATED:20210306T020022Z
LAST-MODIFIED:20210328T122203Z
UID:8761-1616839200-1616846400@kodaly.jp
SUMMARY:いちばんぼし発表会＆アンサンブル　ミニコンサート
DESCRIPTION:【内容】\n\n親子クラスは日頃の教室の様子を、幼児クラスとコーラスは、1年間の積み上げの発表をします。\n\nアンサンブル　ミニコンサートでは音楽教室講師とゲストの東さん（声楽家）のお話を交えた演奏を聴きます。\n\n \n\n【日時】2021年3月27日（土）午前10時～12時\n\n10:00〜親子クラス　幼児クラス　コーラス\n\n11:25〜アンサンブル　ミニコンサート\n\n \n\n【対象】今回は音楽教室生とその家族に限ります\n\n \n\n【会場】\n\n福井市商工会議所地下コンベンションホール\n\n福井市西木田2丁目8-1\n\n0776-36-8111\n\n \n\n【演奏者・講師】\n\n♪いちばんぼし発表会\n\n講師；三輪眞理、三崎素美、松井舞、加藤俊裕、他\n\n \n\n♪アンサンブル　ミニコンサート\n\n演奏者：\n\nゲスト　東 園（声楽：ソプラノ）\n\n \n\n当音楽教室講師\n\n仲谷 理沙（ピアノ）\n\n大橋 まどか（ヴァイオリン）\n\n松井 舞（フルート）\n\n \n\n【プログラム】\n\n親子クラス\n\n・ずくぼんじょ・てんやのおもち\n\n・ぶーぶーぶー　他\n\n幼児クラス\n\n・うしぬぱん・たけのこめだした\n\n・でんでらりゅうば　他\n\nコーラス\n\n・つばめの子たちが\n\n～『小さい人間たちの歌より』～\n\n・ドレミの歌　リチャード・ロジャース\n\n・サリーガーデンズ　アイルランド民謡\n\n・メネスティニス　ラトヴィア民謡　他\n\nアンサンブル　ミニコンサート\n\n・トルコ行進曲　モーツァルト\n\n・愛の喜び クライスラー\n\n・オペラ「椿姫」から『乾杯の歌』ヴェルディ　他\n\n \n\n【入場】無料\n\n \n\n【主催】NPO法人ふくい子どものための音楽教室\n\n \n\n【お問い合わせ】\n\nNPO法人ふくい子どものための音楽教室\n\n0776-97-6833\n\nf-onkyo☆khaki.plala.or.jp　☆を＠に変えてください\n\n三輪眞理\n\n\n\n 
URL:http://kodaly.jp/event/%e3%81%84%e3%81%a1%e3%81%b0%e3%82%93%e3%81%bc%e3%81%97%e7%99%ba%e8%a1%a8%e4%bc%9a%ef%bc%86%e3%82%a2%e3%83%b3%e3%82%b5%e3%83%b3%e3%83%96%e3%83%ab%e3%80%80%e3%83%9f%e3%83%8b%e3%82%b3%e3%83%b3%e3%82%b5/
CATEGORIES:演奏会,発表会
ATTACH;FMTTYPE=image/jpeg:http://kodaly.jp/wp/wp-content/uploads/2021/03/e56aaa371558e51911437f0800f938ee.jpg
END:VEVENT
END:VCALENDAR